BEGIN:VCALENDAR
VERSION:2.0
PRODID:-//hacksw/handcal//NONSGML v1.0//EN
BEGIN:VEVENT
DTSTAMP:20240515T173000Z
DTSTART:20240515T173000Z
DTEND:20240515T173000Z
LOCATION:Tennisclub Bihlafingen, Zu den Weihern 26, Laupheim-Bihlafingen, 88471, Deutschland
SUMMARY:Kandidatenvorstellung in Bihlafingen
END:VEVENT
END:VCALENDAR
